Workbook

Sheet Téli A
B1: Áraink | C1: Hétfő | D1: Kedd | E1: Szerda | F1: Csütörtök | G1: Péntek | H1: Szombat
A2: Salátabár állandó kínálat | B2: 490 Ft 690 Ft | C2: Rántott sajt glutén-,laktózmentes | F2: Friss zöldségek, saját készítésű öntetekkel, desszert tányéron, vagy tálkában választható a hűtőpultból Glutén-, tej-, laktóz-, tojásmentes
A3: Heti saláta ajánlat | B3: 990 | C3: Fokhagymás tejfölös csirkemell gluténmentes | F3: Zöldsaláta kecskesajt kockákkal és tökmagolajjal glutén-, tojásmentes
A4: Street food ételek | B4: 990 | C4: Baconbe göngyölt karaj, sajttal fokhagymás tejföllel besütveglutén-,laktózmentes | F4: Óriás hamburger, házi húspogácsával, klasszikus körítéssel glutén-, laktózmentes
A5: Heti street food ételeink | B5: 990 | C5: Házi mogyoróvajban pácolt, grillezett csirkemell glutén-,laktóz-,tejmentes | F5: Vegyes húsos burger hagymalekvárral és madársalátával glutén-, laktózmentes
C6: Rántott camembert mandula bundában glutén-,laktózmentes | F6: Pórés omlettel töltött házi buci glutén-, laktózmentes
A7: Heti választék | B7: 1090 | C7: Baconbe göngyölt karaj, sajttal fokhagymás tejföllel besütve glutén-,laktóz-,tojásmentes | F7: Sous vide marhanyak borskéregben pácolva glutén-, laktóz-, tojásmentes
B8: 1090 | C8: Rántott csirekemell/sertésborda glutén-,laktózmentes | F8: Kakukkfüves malackaraj glutén-, laktóz-, tej-, tojásmentes
B9: 990 | C9: Mustáros sertésflekken glutén-,laktóz-,tej-,tojásmentes | F9: Tandori jércemell glutén-, laktózmentes
B10: 590 | C10: Bazsalikomos paradicsommal töltött csirkemell kemencében sütve glutén-,laktóz-,tejmentes | F10: Sült virsli karikák hagyma mixben forgatva glutén-, laktóz-, tej-, tojásmentes
A11: Heti wok és serpenyős ételeink | B11: 990 | C11: Rántott tengeri hal glutén-,laktóz-,tejmentes | F11: Rántott tengeri hal glutén-, laktóz-, tejmentes
B12: 990 | C12: Rakott csirkemell variációk glutén-,laktózmentes | F12: Tenger gyümölcsei fokhagymás pelattiban glutén-, laktóz-, tej-, tojásmentes
A13: Vega ételeink | B13: 990 | C13: Fokhagymás-mascarponés csirkecombok glutén-,laktózmentes | F13: Gomolyával grillezett zöldség kockák ötfüszerrel ízesítve rizsfészekben glutén-, tojásmentes
A14: Állandó köreteink | B14: 390 | C14: Napi burgonya köretünk, sülve, főve, petrezselymezve, párolva, fűszerekkel ízesítve a napi főételeinkhez igazítva Glutén-, tej-, laktóz-, tojásmentes | F14: Napi burgonya köretünk, sülve, főve, petrezselymezve, párolva, fűszerekkel ízesítve a napi főételeinkhez igazítva Glutén-, tej-, laktóz-, tojásmentes
C15: Napi rizs köretünk, zöldséggel, gombával, tojással, petrezselyemmel megbolondítva, párolva, vagy pirítva Glutén-, tej-, laktóz-, tojásmentes | F15: Napi rizs köretünk, zöldséggel, gombával, tojással, petrezselyemmel megbolondítva, párolva, vagy pirítva Glutén-, tej-, laktóz-, tojásmentes
C16: Grill, vagy kemencés zöldségek, párolva, vagy sütve Glutén-, tej-, laktóz-, tojásmentes | F16: Grill, vagy kemencés zöldségek, párolva, vagy sütve Glutén-, tej-, laktóz-, tojásmentes
C17: Tészta félék, metélt, penne, fusilli, makaróni a napi főételtől függően Glutén-, tej-, laktóz-, tojásmentes | F17: Tészta félék, metélt, penne, fusilli, makaróni a napi főételtől függően Glutén-, tej-, laktóz-, tojásmentes
A18: Napi leves | B18: 390 | C18: Tejfölös zöldbableves glutén-,laktóz-,tojásmentes | D18: Narancsos-ánizsos almakrémleves glutén-, laktóz-, tojásmentes | E18: Édesburgonya krémleves glutén-, laktóz-,tej-,tojásmentes | F18: Ananász krémleves glutén-, laktóz-, tojásmentes | G18: Erdei gombaleves glutén,- laktóz-,tojásmentes
A19: Napi húsos leves | B19: 490 Ft 690 Ft | C19: Erdélyi csorbaleves glutén-,laktóz-,tej-,tojásmentes | D19: Vöröslencse krémleves pirított kolbásszal glutén-, laktóz-, tej-,tojásmentes | E19: Tárkonyos pulykaraguleves glutén-, laktózmentes | F19: Csontleves húsgaluskával glutén-, laktóz-,tejmentes | G19: Gulyásleves glutén-, laktóz-,tej-,tojásmentes
A20: Napi menü 2 fogásos | B20: 990 | C20: Választható leves gluténmentes | D20: Választható leves gluténmentes | E20: Választható leves gluténmentes | F20: Választható leves gluténmentes | G20: Választható leves gluténmentes
C21: Zöldborsófőzelék sült virslivel glutén-,laktóz-,tojásmentes | D21: Mákos tészta glutén-, laktóz-,tej-,tojásmentes | E21: Budapest ragu, párolt rizzsel glutén-,laktóz-,tej-,tojásmentes | F21: Zöldfűszeres sült csirkecomb burgonyapürével glutén-, laktóz-, tejmentes | G21: Rakott cukkini glutén-, laktóz-,tojásmentes
A22: Gyerek menü 2 fogásos | B22: 790 | C22: Kis adag leves ízlés szerint a napi választékból | F22: Kis adag leves ízlés szerint a napi választékból
A24: Napi főzelékünk | B24: 490 | C24: Zöldborsófőzelék glutén-,laktóz-,tojásmentes | D24: Magyaros burgonyafőzelék glutén-,laktóz-,tojásmentes | E24: Karalábéfőzelék glutén-,laktóz-,tojásmentes | F24: Vöröslencsefőzelék glutén-,laktóz-,tej-,tojásmentes | G24: Kapros tökfőzelék glutén-,laktóz-,tojásmentes
A25: Hagyományos ételeink | B25: 890 | C25: Zöldborsófőzelék sült virslivel glutén-,laktóz-,tojásmentes | D25: Mákos tészta glutén-, laktóz-,tej-,tojásmentes | E25: Budapest ragu, párolt rizzsel glutén-,laktóz-,tej-,tojásmentes | F25: Zöldfűszeres sült csirkecomb burgonyapürével glutén-, laktóz-, tejmentes | G25: Rakott cukkini glutén-,laktóz-,tojásmentes
B26: 890
A27: Wellness ételünk | B27: 1490 | C27: Baconbe göngyölt csirkemell cheddar sajtmártással burgonyapürével gluténmentes | D27: Csirkemell roston gombapaprikással, rizzsel glutén-,laktózmentes | E27: Karaván sajttal töltött csirkemell baconbe göngyölve brokkolis gratinnal gluténmentes | F27: Cowboy sertésborda kukoricás rizzsel glutén-,laktóz-,tojásmentes | G27: Pikáns vasalt csirkecombfilé fűszeres csónakburgonyával glutén-,laktóz-,tejmentes
A28: Fogyi ételünk | B28: 2390 | C28: Csőben sült carbonara glutén-, laktóz-,tojásmentes | D28: Milánói sertésborda glutén-,laktózmentes | E28: Roston tarjaszelet holland sajtmártásban steak burgonyával glutén-,tojásmentes | F28: Csőben sült bolognai rántott edámi sajttal glutén-,laktózmentes | G28: Sokmagvas rántott csirkemell sajttal töltve steak burgonyával glutén-,laktózmentes
B29: 390 | C29: Somlói galuska glutén-,laktózmentes
B30: 390 | F30: Fahércsoki-mousse pohárkrém glutén-,tojásmentes
A31: Állandó palacsintáink | B31: 690
A32: Heti palacsinta ajánlat | B32: 890
B33: 690-790

Sheet Téli 1.hét
A1: ÁRAK | C1: ÁLLANDÓ KÍNÁLATUNK
A2: Rántott ételek | B2: 2890 | C2: Rántott csirkemell / sertésborda glutén-, laktózmentes
B3: 1390 Ft | C3: Rántott sajt glutén-,laktózmentes
B4: 2690 Ft | C4: Rántott zöldségek glutén-,laktózmentes
B5: 2690-2990 | C5: Rántott tengeri hal glutén-,laktóz-,tejmentes
B6: 3190 | C6: Cordon Bleu glutén-,laktózmentes
B7: 2690 | C7: Rántott Camembert glutén-,laktózmentes
A8: Street food | B8: 3990 | C8: Hamburger; +sajt 100Ft, +bacon 100Ft glutén-,laktóz-,tojásmentes
B9: 3690 | C9: Gyros tál glutén-,laktóz-,tejmentes
A10: Frissensültek | B10: 2490 | C10: Magyaros sült csirkecomb glutén-,laktóz-, tejmentes
B11: 2990 | C11: Rakott csirkemell variációk glutén-,laktózmentes
A12: Köretek | B12: 990-1490 | C12: Hasábburgonya / Röszti / Édesburgonya / Rizs / Zöldség / Csicseriborsó tészta glutén-, tej-, laktóz-, tojásmentes
A13: Saláta / savanyúság | B13: 990-1990 | C13: Friss saláta / savanyúság gluténmentes
A14: Házi desszertek | B14: 1990-1690 | C14: Somlói galuska glutén-,laktózmentes
C15: Pohár desszert glutén-,laktóz-,tojásmentes
C16: Hétfő | D16: Kedd
A17: Napi leves | B17: 990-1090Ft | C17: ='Téli A'!C18 -> Tejfölös zöldbableves glutén-,laktóz-,tojásmentes | D17: ='Téli A'!D18 -> Narancsos-ánizsos almakrémleves glutén-, laktóz-, tojásmentes
A18: Napi húsos leves | B18: 1190 Ft 1290 Ft | C18: ='Téli A'!C19 -> Erdélyi csorbaleves glutén-,laktóz-,tej-,tojásmentes | D18: ='Téli A'!D19 -> Vöröslencse krémleves pirított kolbásszal glutén-, laktóz-, tej-,tojásmentes
A19: Napi főzelékünk | B19: 1390 | C19: ='Téli A'!C24 -> Zöldborsófőzelék glutén-,laktóz-,tojásmentes | D19: ='Téli A'!D24 -> Magyaros burgonyafőzelék glutén-,laktóz-,tojásmentes
A20: Hagyományos ételeink | B20: 3290 | C20: ='Téli A'!C25 -> Zöldborsófőzelék sült virslivel glutén-,laktóz-,tojásmentes | D20: ='Téli A'!D25 -> Mákos tészta glutén-, laktóz-,tej-,tojásmentes
A21: Napi menü 2 fogásos | B21: 3490 | C21: ='Téli A'!C20 -> Választható leves gluténmentes | D21: ='Téli A'!D20 -> Választható leves gluténmentes
C22: ='Téli A'!C21 -> Zöldborsófőzelék sült virslivel glutén-,laktóz-,tojásmentes | D22: ='Téli A'!D21 -> Mákos tészta glutén-, laktóz-,tej-,tojásmentes
A23: Napi ajánlatunk | B23: 3990 | C23: ='Téli A'!C27 -> Baconbe göngyölt csirkemell cheddar sajtmártással burgonyapürével gluténmentes | D23: ='Téli A'!D27 -> Csirkemell roston gombapaprikással, rizzsel glutén-,laktózmentes
A24: Napi ajánlatunk | B24: 3690-4290 | C24: ='Téli A'!C28 -> Csőben sült carbonara glutén-, laktóz-,tojásmentes | D24: ='Téli A'!D28 -> Milánói sertésborda glutén-,laktózmentes
A25: ÁRAK | C25: NAPI AJÁNLATUNK
C26: Szerda | D26: Csütörtök
A27: Napi leves | B27: 990-1090Ft | C27: ='Téli A'!E18 -> Édesburgonya krémleves glutén-, laktóz-,tej-,tojásmentes | D27: ='Téli A'!F18 -> Ananász krémleves glutén-, laktóz-, tojásmentes
A28: Napi húsos leves | B28: 1190 Ft 1290 Ft | C28: ='Téli A'!E19 -> Tárkonyos pulykaraguleves glutén-, laktózmentes | D28: ='Téli A'!F19 -> Csontleves húsgaluskával glutén-, laktóz-,tejmentes
A29: Napi főzelékünk | B29: 1390 | C29: ='Téli A'!E24 -> Karalábéfőzelék glutén-,laktóz-,tojásmentes | D29: ='Téli A'!F24 -> Vöröslencsefőzelék glutén-,laktóz-,tej-,tojásmentes
A30: Hagyományos ételeink | B30: 3290 | C30: ='Téli A'!E25 -> Budapest ragu, párolt rizzsel glutén-,laktóz-,tej-,tojásmentes | D30: ='Téli A'!F25 -> Zöldfűszeres sült csirkecomb burgonyapürével glutén-, laktóz-, tejmentes
A31: Napi menü 2 fogásos | B31: 3490 | C31: ='Téli A'!E20 -> Választható leves gluténmentes | D31: ='Téli A'!F20 -> Választható leves gluténmentes
C32: ='Téli A'!E21 -> Budapest ragu, párolt rizzsel glutén-,laktóz-,tej-,tojásmentes | D32: ='Téli A'!F21 -> Zöldfűszeres sült csirkecomb burgonyapürével glutén-, laktóz-, tejmentes
A33: Napi ajánlatunk | B33: 4290-3890 | C33: ='Téli A'!E27 -> Karaván sajttal töltött csirkemell baconbe göngyölve brokkolis gratinnal gluténmentes | D33: ='Téli A'!F27 -> Cowboy sertésborda kukoricás rizzsel glutén-,laktóz-,tojásmentes
A34: Napi ajánlatunk | B34: 4290 | C34: ='Téli A'!E28 -> Roston tarjaszelet holland sajtmártásban steak burgonyával glutén-,tojásmentes | D34: ='Téli A'!F28 -> Csőben sült bolognai rántott edámi sajttal glutén-,laktózmentes
A35: ÁRAK | C35: NAPI AJÁNLATUNK
C36: Péntek | D36: Szombat
C37: ZÁRVA | D37: ZÁRVA
C38: ZÁRVA | D38: ZÁRVA
C39: ZÁRVA | D39: ZÁRVA
C40: ZÁRVA | D40: ZÁRVA
C41: ZÁRVA | D41: ZÁRVA
C42: ZÁRVA | D42: ZÁRVA
C43: ZÁRVA | D43: ZÁRVA
C44: ZÁRVA | D44: ZÁRVA

Sheet Téli 1.hét_megrendel
A1: Név: | E1: Cím:
A2: Telefonszám: | E2: Megjegyzés:
A3: Szederinda étlap, megrendelőlap 2017.04.03-04.07.
B4: ÁRAK | D4: ÁLLANDÓ KÍNÁLATUNK | F4: H | G4: K | H4: SZ | J4: CS | K4: P
A5: S0 | B5: Salátabár állandó kínálat | C5: 490 Ft 690 Ft | D5: Friss zöldségek, saját készítésű öntetekkel, desszert tányéron, vagy tálkában választható a hűtőpultból glutén-, tej-, laktóz-, tojásmentes
A6: SF1 | B6: Street food ételek | C6: 990 | D6: Óriás hamburger, házi húspogácsával, klasszikus körítéssel glutén-, laktózmentes
A7: KB | B7: Állandó köreteink | C7: 390 | D7: Napi burgonya köretünk, sülve, főve, petrezselymezve, párolva, fűszerekkel ízesítve a napi főételeinkhez igazítva glutén-, tej-, laktóz-, tojásmentes
A8: KR | D8: Napi rizs köretünk, zöldséggel, gombával, tojással, petrezselyemmel megbolondítva, párolva, vagy pirítva glutén-, tej-, laktóz-, tojásmentes
A9: KG | C9: 550 | D9: Grill, vagy kemencés zöldségek, párolva, vagy sütve glutén-, tej-, laktóz-, tojásmentes
C10: 550 | D10: Galuska glutén-, tej-, laktózmentes
A11: KT | C11: 390 | D11: Tésztafélék, metélt, penne, fusilli, makaróni a napi főételtől függően glutén-, tej-, laktóz-, tojásmentes
A12: P0 | B12: Állandó palacsintáink | C12: 690 | D12: Lekváros, mazsolás-túrós, kakaós, fahéjas, sajtos-tejfölös glutén-, tej-, laktózmentes
B13: ÁRAK | D13: HETI AJÁNLATUNK
A14: HSA | B14: Heti saláta ajánlat | C14: 690 | D14: ='Téli 1.hét'!#REF! -> #REF!
A15: HSF1 | B15: Heti street food ételeink | C15: 990 | D15: ='Téli 1.hét'!#REF! -> #REF!
A16: HSF2 | D16: ='Téli 1.hét'!#REF! -> #REF!
A17: HG1 | B17: Grill választék | C17: 990 | D17: ='Téli 1.hét'!C10 -> Magyaros sült csirkecomb glutén-,laktóz-, tejmentes
A18: HG2 | C18: 990 | D18: ='Téli 1.hét'!#REF! -> #REF!
A19: HG3 | C19: 890 | D19: ='Téli 1.hét'!C11 -> Rakott csirkemell variációk glutén-,laktózmentes
A20: HG4 | C20: 590 | D20: ='Téli 1.hét'!#REF! -> #REF!
A21: HW1 | B21: Heti wok és serpenyős ételeink | C21: 990 | D21: ='Téli 1.hét'!#REF! -> #REF!
A22: HW2 | C22: 990 | D22: ='Téli 1.hét'!#REF! -> #REF!
A23: HV | B23: Vega ételeink | C23: 990 | D23: ='Téli 1.hét'!C12 -> Hasábburgonya / Röszti / Édesburgonya / Rizs / Zöldség / Csicseriborsó tészta glutén-, tej-, laktóz-, tojásmentes
A24: HA | B24: Hagyományos ételeink | C24: 890 | D24: ='Téli 1.hét'!C13 -> Friss saláta / savanyúság gluténmentes
A25: HD1 | B25: Házi desszertek | C25: 390 | D25: ='Téli 1.hét'!C14 -> Somlói galuska glutén-,laktózmentes
A26: HD2 | C26: 390 | D26: ='Téli 1.hét'!C15 -> Pohár desszert glutén-,laktóz-,tojásmentes
A27: HP1 | B27: Heti palacsinta ajánlat | C27: 890 | D27: ='Téli 1.hét'!#REF! -> #REF!
A28: HP2 | C28: 790 | D28: ='Téli 1.hét'!#REF! -> #REF!
B29: ÁRAK | D29: NAPI AJÁNLATUNK
D30: Hétfő | E30: Kedd | F30: Hétfő | I30: Kedd
A31: NL1 | B31: Napi leves | C31: 390 | D31: ='Téli 1.hét'!C17 -> Tejfölös zöldbableves glutén-,laktóz-,tojásmentes | E31: ='Téli 1.hét'!D17 -> Narancsos-ánizsos almakrémleves glutén-, laktóz-, tojásmentes
A32: NL2 | B32: Napi húsos leves | C32: 490 Ft 690 Ft | D32: ='Téli 1.hét'!C18 -> Erdélyi csorbaleves glutén-,laktóz-,tej-,tojásmentes | E32: ='Téli 1.hét'!D18 -> Vöröslencse krémleves pirított kolbásszal glutén-, laktóz-, tej-,tojásmentes
A33: NF | B33: Napi főzelékünk | C33: 490 | D33: ='Téli 1.hét'!C19 -> Zöldborsófőzelék glutén-,laktóz-,tojásmentes | E33: ='Téli 1.hét'!D19 -> Magyaros burgonyafőzelék glutén-,laktóz-,tojásmentes
A34: NH | B34: Hagyományos ételeink | C34: 890 | D34: ='Téli 1.hét'!C20 -> Zöldborsófőzelék sült virslivel glutén-,laktóz-,tojásmentes | E34: ='Téli 1.hét'!D20 -> Mákos tészta glutén-, laktóz-,tej-,tojásmentes
A35: NM | B35: Napi menü 2 fogásos | C35: 990 | D35: ='Téli 1.hét'!C21 -> Választható leves gluténmentes | E35: ='Téli 1.hét'!D21 -> Választható leves gluténmentes
D36: ='Téli 1.hét'!C22 -> Zöldborsófőzelék sült virslivel glutén-,laktóz-,tojásmentes | E36: ='Téli 1.hét'!D22 -> Mákos tészta glutén-, laktóz-,tej-,tojásmentes
A37: NW | B37: Wellness ételünk | C37: 990 | D37: ='Téli 1.hét'!C23 -> Baconbe göngyölt csirkemell cheddar sajtmártással burgonyapürével gluténmentes | E37: ='Téli 1.hét'!D23 -> Csirkemell roston gombapaprikással, rizzsel glutén-,laktózmentes
A38: NFGY | B38: Fogyi ételünk | C38: 990 | D38: ='Téli 1.hét'!C24 -> Csőben sült carbonara glutén-, laktóz-,tojásmentes | E38: ='Téli 1.hét'!D24 -> Milánói sertésborda glutén-,laktózmentes
A39: ND | B39: Házi desszertek | C39: 490 | D39: ='Téli 1.hét'!#REF! -> #REF! | E39: ='Téli 1.hét'!#REF! -> #REF!
B40: ÁRAK | D40: NAPI AJÁNLATUNK
D41: Szerda | E41: Csütörtök | F41: Szerda | I41: Csütörtök
A42: NL1 | B42: Napi leves | C42: 390 | D42: ='Téli 1.hét'!C27 -> Édesburgonya krémleves glutén-, laktóz-,tej-,tojásmentes | E42: ='Téli 1.hét'!D27 -> Ananász krémleves glutén-, laktóz-, tojásmentes
A43: NL2 | B43: Napi húsos leves | C43: 490 Ft 690 Ft | D43: ='Téli 1.hét'!C28 -> Tárkonyos pulykaraguleves glutén-, laktózmentes | E43: ='Téli 1.hét'!D28 -> Csontleves húsgaluskával glutén-, laktóz-,tejmentes
A44: NF | B44: Napi főzelékünk | C44: 490 | D44: ='Téli 1.hét'!C29 -> Karalábéfőzelék glutén-,laktóz-,tojásmentes | E44: ='Téli 1.hét'!D29 -> Vöröslencsefőzelék glutén-,laktóz-,tej-,tojásmentes
A45: NH | B45: Hagyományos ételeink | C45: 890 | D45: ='Téli 1.hét'!C30 -> Budapest ragu, párolt rizzsel glutén-,laktóz-,tej-,tojásmentes | E45: ='Téli 1.hét'!D30 -> Zöldfűszeres sült csirkecomb burgonyapürével glutén-, laktóz-, tejmentes
A46: NM | B46: Napi menü 2 fogásos | C46: 990 | D46: ='Téli 1.hét'!C31 -> Választható leves gluténmentes | E46: ='Téli 1.hét'!D31 -> Választható leves gluténmentes
D47: ='Téli 1.hét'!C32 -> Budapest ragu, párolt rizzsel glutén-,laktóz-,tej-,tojásmentes | E47: ='Téli 1.hét'!D32 -> Zöldfűszeres sült csirkecomb burgonyapürével glutén-, laktóz-, tejmentes
A48: NW | B48: Wellness ételünk | C48: 990 | D48: ='Téli 1.hét'!C33 -> Karaván sajttal töltött csirkemell baconbe göngyölve brokkolis gratinnal gluténmentes | E48: ='Téli 1.hét'!D33 -> Cowboy sertésborda kukoricás rizzsel glutén-,laktóz-,tojásmentes
A49: NFGY | B49: Fogyi ételünk | C49: 990 | D49: ='Téli 1.hét'!C34 -> Roston tarjaszelet holland sajtmártásban steak burgonyával glutén-,tojásmentes | E49: ='Téli 1.hét'!D34 -> Csőben sült bolognai rántott edámi sajttal glutén-,laktózmentes
A50: ND | B50: Házi desszertek | C50: 490 | D50: ='Téli 1.hét'!#REF! -> #REF! | E50: ='Téli 1.hét'!#REF! -> #REF!
B51: ÁRAK | D51: NAPI AJÁNLATUNK
D52: Péntek | E52: Szombat, Vasárnap | F52: Péntek
A53: NL1 | B53: Napi leves | C53: 390 | D53: ='Téli 1.hét'!C37 -> ZÁRVA
A54: NL2 | B54: Napi húsos leves | C54: 490 Ft 690 Ft | D54: ='Téli 1.hét'!C38 -> ZÁRVA
A55: NF | B55: Napi főzelékünk | C55: 490 | D55: ='Téli 1.hét'!C39 -> ZÁRVA
A56: NH | B56: Hagyományos ételeink | C56: 890 | D56: ='Téli 1.hét'!C40 -> ZÁRVA
A57: NM | B57: Napi menü 2 fogásos | C57: 990 | D57: ='Téli 1.hét'!C41 -> ZÁRVA
D58: ='Téli 1.hét'!C42 -> ZÁRVA
A59: NW | B59: Wellness ételünk | C59: 990 | D59: ='Téli 1.hét'!C43 -> ZÁRVA
A60: NFGY | B60: Fogyi ételünk | C60: 990 | D60: ='Téli 1.hét'!C44 -> ZÁRVA
A61: ND | B61: Házi desszertek | C61: 490 | D61: ='Téli 1.hét'!#REF! -> #REF!
